BEGIN:VCALENDAR
VERSION:2.0
PRODID:-//Linn Valley, Kansas - ECPv6.15.20//NONSGML v1.0//EN
CALSCALE:GREGORIAN
METHOD:PUBLISH
X-WR-CALNAME:Linn Valley, Kansas
X-ORIGINAL-URL:https://www.linnvalleyks.com
X-WR-CALDESC:Events for Linn Valley, Kansas
REFRESH-INTERVAL;VALUE=DURATION:PT1H
X-Robots-Tag:noindex
X-PUBLISHED-TTL:PT1H
BEGIN:VTIMEZONE
TZID:America/Chicago
BEGIN:DAYLIGHT
TZOFFSETFROM:-0600
TZOFFSETTO:-0500
TZNAME:CDT
DTSTART:20250309T080000
END:DAYLIGHT
BEGIN:STANDARD
TZOFFSETFROM:-0500
TZOFFSETTO:-0600
TZNAME:CST
DTSTART:20251102T070000
END:STANDARD
BEGIN:DAYLIGHT
TZOFFSETFROM:-0600
TZOFFSETTO:-0500
TZNAME:CDT
DTSTART:20260308T080000
END:DAYLIGHT
BEGIN:STANDARD
TZOFFSETFROM:-0500
TZOFFSETTO:-0600
TZNAME:CST
DTSTART:20261101T070000
END:STANDARD
BEGIN:DAYLIGHT
TZOFFSETFROM:-0600
TZOFFSETTO:-0500
TZNAME:CDT
DTSTART:20270314T080000
END:DAYLIGHT
BEGIN:STANDARD
TZOFFSETFROM:-0500
TZOFFSETTO:-0600
TZNAME:CST
DTSTART:20271107T070000
END:STANDARD
END:VTIMEZONE
BEGIN:VEVENT
DTSTART;TZID=America/Chicago:20260112T180000
DTEND;TZID=America/Chicago:20260112T190000
DTSTAMP:20260420T031457
CREATED:20260109T180509Z
LAST-MODIFIED:20260109T180510Z
UID:7215-1768240800-1768244400@www.linnvalleyks.com
SUMMARY:City Council Meeting
DESCRIPTION:
URL:https://www.linnvalleyks.com/event/city-council-meeting-6/
END:VEVENT
BEGIN:VEVENT
DTSTART;TZID=America/Chicago:20260114T183000
DTEND;TZID=America/Chicago:20260114T190000
DTSTAMP:20260420T031457
CREATED:20260114T153938Z
LAST-MODIFIED:20260114T153940Z
UID:7225-1768415400-1768417200@www.linnvalleyks.com
SUMMARY:Special Meeting/Workshop
DESCRIPTION:AGENDA: \n\n\n\n\nCodes Truck\n\n\n\nAV Equipment\n\n\n\n\nWORKSHOP \n\n\n\n\nWater Operator
URL:https://www.linnvalleyks.com/event/special-meeting-workshop/
END:VEVENT
END:VCALENDAR