BEGIN:VCALENDAR
VERSION:2.0
PRODID:-//Linn Valley, Kansas - ECPv6.15.20//NONSGML v1.0//EN
CALSCALE:GREGORIAN
METHOD:PUBLISH
X-WR-CALNAME:Linn Valley, Kansas
X-ORIGINAL-URL:https://www.linnvalleyks.com
X-WR-CALDESC:Events for Linn Valley, Kansas
REFRESH-INTERVAL;VALUE=DURATION:PT1H
X-Robots-Tag:noindex
X-PUBLISHED-TTL:PT1H
BEGIN:VTIMEZONE
TZID:America/Chicago
BEGIN:DAYLIGHT
TZOFFSETFROM:-0600
TZOFFSETTO:-0500
TZNAME:CDT
DTSTART:20240310T080000
END:DAYLIGHT
BEGIN:STANDARD
TZOFFSETFROM:-0500
TZOFFSETTO:-0600
TZNAME:CST
DTSTART:20241103T070000
END:STANDARD
BEGIN:DAYLIGHT
TZOFFSETFROM:-0600
TZOFFSETTO:-0500
TZNAME:CDT
DTSTART:20250309T080000
END:DAYLIGHT
BEGIN:STANDARD
TZOFFSETFROM:-0500
TZOFFSETTO:-0600
TZNAME:CST
DTSTART:20251102T070000
END:STANDARD
BEGIN:DAYLIGHT
TZOFFSETFROM:-0600
TZOFFSETTO:-0500
TZNAME:CDT
DTSTART:20260308T080000
END:DAYLIGHT
BEGIN:STANDARD
TZOFFSETFROM:-0500
TZOFFSETTO:-0600
TZNAME:CST
DTSTART:20261101T070000
END:STANDARD
END:VTIMEZONE
BEGIN:VEVENT
DTSTART;TZID=America/Chicago:20250609T180000
DTEND;TZID=America/Chicago:20250609T210000
DTSTAMP:20260420T121808
CREATED:20250514T132356Z
LAST-MODIFIED:20250514T132429Z
UID:6901-1749492000-1749502800@www.linnvalleyks.com
SUMMARY:City Council Meeting
DESCRIPTION:
URL:https://www.linnvalleyks.com/event/city-council-meeting-3/
END:VEVENT
BEGIN:VEVENT
DTSTART;TZID=America/Chicago:20250617T180000
DTEND;TZID=America/Chicago:20250617T190000
DTSTAMP:20260420T121808
CREATED:20250613T175537Z
LAST-MODIFIED:20250613T175539Z
UID:6953-1750183200-1750186800@www.linnvalleyks.com
SUMMARY:Municipal Court
DESCRIPTION:
URL:https://www.linnvalleyks.com/event/municipal-court-2/
END:VEVENT
BEGIN:VEVENT
DTSTART;TZID=America/Chicago:20250621T130000
DTEND;TZID=America/Chicago:20250621T150000
DTSTAMP:20260420T121808
CREATED:20250523T154457Z
LAST-MODIFIED:20250523T154501Z
UID:6913-1750510800-1750518000@www.linnvalleyks.com
SUMMARY:Town Hall Meeting-Water Project
DESCRIPTION:Mark your calendars! Have all your questions ready for the Project Engineer and Project Manager.
URL:https://www.linnvalleyks.com/event/town-hall-meeting-water-project/
END:VEVENT
BEGIN:VEVENT
DTSTART;TZID=America/Chicago:20250625T180000
DTEND;TZID=America/Chicago:20250625T190000
DTSTAMP:20260420T121808
CREATED:20250623T162220Z
LAST-MODIFIED:20250623T162224Z
UID:6966-1750874400-1750878000@www.linnvalleyks.com
SUMMARY:Special Meeting
DESCRIPTION:Agenda: Non-Elected Personnel
URL:https://www.linnvalleyks.com/event/special-meeting/
END:VEVENT
BEGIN:VEVENT
DTSTART;TZID=America/Chicago:20250630T180000
DTEND;TZID=America/Chicago:20250630T183000
DTSTAMP:20260420T121808
CREATED:20250629T010155Z
LAST-MODIFIED:20250630T132602Z
UID:6994-1751306400-1751308200@www.linnvalleyks.com
SUMMARY:CANCELED-Special Meeting
DESCRIPTION:Agenda-Severance Agreement
URL:https://www.linnvalleyks.com/event/special-meeting-2/
END:VEVENT
END:VCALENDAR